BEGIN:VCALENDAR
VERSION:2.0
PRODID:-//VPS Architecture - ECPv6.15.18//NONSGML v1.0//EN
CALSCALE:GREGORIAN
METHOD:PUBLISH
X-ORIGINAL-URL:https://vpsarch.com
X-WR-CALDESC:Events for VPS Architecture
REFRESH-INTERVAL;VALUE=DURATION:PT1H
X-Robots-Tag:noindex
X-PUBLISHED-TTL:PT1H
BEGIN:VTIMEZONE
TZID:America/Chicago
BEGIN:DAYLIGHT
TZOFFSETFROM:-0600
TZOFFSETTO:-0500
TZNAME:CDT
DTSTART:20180311T080000
END:DAYLIGHT
BEGIN:STANDARD
TZOFFSETFROM:-0500
TZOFFSETTO:-0600
TZNAME:CST
DTSTART:20181104T070000
END:STANDARD
BEGIN:DAYLIGHT
TZOFFSETFROM:-0600
TZOFFSETTO:-0500
TZNAME:CDT
DTSTART:20190310T080000
END:DAYLIGHT
BEGIN:STANDARD
TZOFFSETFROM:-0500
TZOFFSETTO:-0600
TZNAME:CST
DTSTART:20191103T070000
END:STANDARD
BEGIN:DAYLIGHT
TZOFFSETFROM:-0600
TZOFFSETTO:-0500
TZNAME:CDT
DTSTART:20200308T080000
END:DAYLIGHT
BEGIN:STANDARD
TZOFFSETFROM:-0500
TZOFFSETTO:-0600
TZNAME:CST
DTSTART:20201101T070000
END:STANDARD
BEGIN:DAYLIGHT
TZOFFSETFROM:-0600
TZOFFSETTO:-0500
TZNAME:CDT
DTSTART:20210314T080000
END:DAYLIGHT
BEGIN:STANDARD
TZOFFSETFROM:-0500
TZOFFSETTO:-0600
TZNAME:CST
DTSTART:20211107T070000
END:STANDARD
BEGIN:DAYLIGHT
TZOFFSETFROM:-0600
TZOFFSETTO:-0500
TZNAME:CDT
DTSTART:20220313T080000
END:DAYLIGHT
BEGIN:STANDARD
TZOFFSETFROM:-0500
TZOFFSETTO:-0600
TZNAME:CST
DTSTART:20221106T070000
END:STANDARD
BEGIN:DAYLIGHT
TZOFFSETFROM:-0600
TZOFFSETTO:-0500
TZNAME:CDT
DTSTART:20230312T080000
END:DAYLIGHT
BEGIN:STANDARD
TZOFFSETFROM:-0500
TZOFFSETTO:-0600
TZNAME:CST
DTSTART:20231105T070000
END:STANDARD
END:VTIMEZONE
BEGIN:VEVENT
DTSTART;VALUE=DATE:20220518
DTEND;VALUE=DATE:20220521
DTSTAMP:20260419T192809
CREATED:20220208T200909Z
LAST-MODIFIED:20220208T200909Z
UID:2076-1652832000-1653091199@vpsarch.com
SUMMARY:ISHE Spring Conference
DESCRIPTION:We will be attending the 2022 ISHE (Indiana Society for Healthcare Engineering) Spring Conference at French Lick Resort in French Lick\, Indiana.
URL:https://vpsarch.com/event/ishe-spring-conference/
LOCATION:French Lick Resort\, 8670 W. State Road 56\, French Lick\, IN\, 47432\, United States
CATEGORIES:Conference/Convention
END:VEVENT
BEGIN:VEVENT
DTSTART;VALUE=DATE:20220427
DTEND;VALUE=DATE:20220428
DTSTAMP:20260419T192809
CREATED:20220208T200249Z
LAST-MODIFIED:20220208T200326Z
UID:2074-1651017600-1651103999@vpsarch.com
SUMMARY:AIA “The Future of Health-Care Facility Design – 2030 Symposium”
DESCRIPTION:We will be attending this year’s AIA “The Future of Health-Care Facility Design – 2030 Symposium” on April 27.
URL:https://vpsarch.com/event/aia-the-future-of-health-care-facility-design-2030-symposium/
LOCATION:Indiana Landmarks\, Cook Theater\, 1201 Central Avenue\, Indianapolis\, IN\, 46202\, United States
CATEGORIES:Conference/Convention
END:VEVENT
BEGIN:VEVENT
DTSTART;VALUE=DATE:20211108
DTEND;VALUE=DATE:20211111
DTSTAMP:20260419T192809
CREATED:20210802T152137Z
LAST-MODIFIED:20210802T152137Z
UID:1420-1636329600-1636588799@vpsarch.com
SUMMARY:Midwest Healthcare Engineering Conference & Trade Show
DESCRIPTION:We will be attending the Midwest Healthcare Engineering Conference & Trade Show on November 8-10\, 2021. Join us at the largest healthcare facility conference!
URL:https://vpsarch.com/event/midwest-healthcare-engineering-conference-trade-show/
LOCATION:Indiana Convention Center\, 100 S Capitol Ave\, Indianapolis\, IN\, 46225\, United States
CATEGORIES:Conference/Convention
END:VEVENT
BEGIN:VEVENT
DTSTART;TZID=America/Chicago:20211104T180000
DTEND;TZID=America/Chicago:20211104T200000
DTSTAMP:20260419T192809
CREATED:20210914T152816Z
LAST-MODIFIED:20210914T152816Z
UID:1937-1636048800-1636056000@vpsarch.com
SUMMARY:2021 Gala "Big Heart Big IMPACT"
DESCRIPTION:VPS Architecture is an Ultimate Defender Sponsor for the Big Brothers Big Sisters 2021 Gala “Big Heart Big IMPACT”. We will be attending the event and encourage everyone to as well! Learn more here. 
URL:https://vpsarch.com/event/2021-gala-big-heart-big-impact/
LOCATION:The Crescent Room at Milestones\, 621 S. Cullen Ave.\, Evansville\, IN\, 47715\, United States
CATEGORIES:Event Sponsor
END:VEVENT
BEGIN:VEVENT
DTSTART;TZID=America/Chicago:20211104T080000
DTEND;TZID=America/Chicago:20211104T153000
DTSTAMP:20260419T192810
CREATED:20210827T141831Z
LAST-MODIFIED:20210827T141831Z
UID:1466-1636012800-1636039800@vpsarch.com
SUMMARY:Women's Conference 2021
DESCRIPTION:Andrea Herschelman\, our Director of Business Development & Marketing\, has been selected as one of the 2021 Top 20 Women in Business in the Tri-State Area. Andrea and the other incredible women of our community will be honored at the 2021 Women’s Conference and luncheon on November 4th. These awards recognize the excellent servant leaders in our region who make our community a better place to live and work. \nWhen: November 4\, 2021\, from 8:00 a.m. to 3:30 p.m.\nWhere: Old National Events Plaza \nLearn more and purchase tickets to attend >>> Junior League of Evansville
URL:https://vpsarch.com/event/womens-conference-2021/
LOCATION:Old National Events Plaza\, 715 Locust St\, Evansville\, IN\, 47708\, United States
CATEGORIES:Conference/Convention
END:VEVENT
BEGIN:VEVENT
DTSTART;VALUE=DATE:20211011
DTEND;VALUE=DATE:20211013
DTSTAMP:20260419T192810
CREATED:20210802T151742Z
LAST-MODIFIED:20210802T151742Z
UID:1418-1633910400-1634083199@vpsarch.com
SUMMARY:ISBA/IAPSS Fall Conference
DESCRIPTION:We will be attending the 72nd Annual ISBA Fall Conference on October 11-12\, 2021. Be sure to stop by and visit us!
URL:https://vpsarch.com/event/isba-iapss-fall-conference/
LOCATION:Indiana Convention Center\, 100 S Capitol Ave\, Indianapolis\, IN\, 46225\, United States
CATEGORIES:Conference/Convention
END:VEVENT
BEGIN:VEVENT
DTSTART;TZID=America/Chicago:20210917T090000
DTEND;TZID=America/Chicago:20210917T090000
DTSTAMP:20260419T192810
CREATED:20210914T152530Z
LAST-MODIFIED:20210914T152530Z
UID:1935-1631869200-1631869200@vpsarch.com
SUMMARY:25th Annual Golf Fore Kids
DESCRIPTION:VPS Architecture is a Silver Sponsor for the Franklin Township Education Foundation 25th Annual Golf Fore Kids and will be participating in the scramble. The event is on Friday\, September 17\, 2021\, with a shotgun start at 9:00 a.m.
URL:https://vpsarch.com/event/25th-annual-golf-fore-kids/
CATEGORIES:Event Sponsor,Networking
END:VEVENT
BEGIN:VEVENT
DTSTART;TZID=America/Chicago:20210629T140000
DTEND;TZID=America/Chicago:20210629T140000
DTSTAMP:20260419T192810
CREATED:20210628T134557Z
LAST-MODIFIED:20210628T134557Z
UID:1384-1624975200-1624975200@vpsarch.com
SUMMARY:Fire Station Dedication & Hose Cutting Ceremony
DESCRIPTION:We will be attending the Ohio Township Fire/EMS Station and Warrick County Disaster Storage Facility Dedication and Hose Cutting Ceremony on Tuesday\, June 29. Our Principle\, Michael Davis\, is the lead architect on this project\, where the existing station was replaced with an enhanced environment. \nGovernor Eric Holcomb will be attending\, and light refreshments will be served following. \nJoin us in celebrating the new facilities!
URL:https://vpsarch.com/event/fire-station-dedication-hose-cutting-ceremony/
LOCATION:Ohio Township Fire/EMS Station\, 2400 Old Plank Road\, Newburgh\, IN\, 47630\, United States
CATEGORIES:Ceremony
END:VEVENT
BEGIN:VEVENT
DTSTART;VALUE=DATE:20210512
DTEND;VALUE=DATE:20210515
DTSTAMP:20260419T192810
CREATED:20210430T181543Z
LAST-MODIFIED:20210430T181543Z
UID:1370-1620777600-1621036799@vpsarch.com
SUMMARY:ISHE 2021 Spring Conference
DESCRIPTION:Join us at the French Lick Resort on May 12\, 13 & 14 to: \n\nGet vital information from The Joint Commission\, HFAP\, ISDH\, and ASHE\nAsk other healthcare facility engineers how they solved problems\nBuild a network that will support your career\n\nThis is a must-attend event for you\, your co-workers\, and your leadership! \n 
URL:https://vpsarch.com/event/ishe-2021-spring-conference/
LOCATION:French Lick Resort\, 8670 W. State Road 56\, French Lick\, IN\, 47432\, United States
CATEGORIES:Conference/Convention
ATTACH;FMTTYPE=image/jpeg:https://vpsarch.com/wp-content/uploads/2021/04/Healthcare-Conference-French-Lick.jpg
END:VEVENT
BEGIN:VEVENT
DTSTART;VALUE=DATE:20200928
DTEND;VALUE=DATE:20200930
DTSTAMP:20260419T192810
CREATED:20200831T153023Z
LAST-MODIFIED:20200831T153023Z
UID:1278-1601251200-1601423999@vpsarch.com
SUMMARY:ISBA/IAPSS Annual Fall Conference Virtual
DESCRIPTION:VPS Architecture will be attending the 71st Annual ISBA/IAPSS Fall Conference on Monday and Tuesday\, September 28-29\, 2020. This year’s event will be virtual due to the current health crisis\, so we will be exhibiting via an online platform. \nThe annual conference brings the latest information and success stories from schools in Indiana. VPS Architecture gets to meet with school board members and superintendents from across the state\, keeping them in the loop of all things VPS and helping them in any way that we can.
URL:https://vpsarch.com/event/isba-iapss-annual-fall-conference-virtual/
LOCATION:Virtual
CATEGORIES:Conference/Convention
END:VEVENT
BEGIN:VEVENT
DTSTART;VALUE=DATE:20200925
DTEND;VALUE=DATE:20200926
DTSTAMP:20260419T192810
CREATED:20200825T215446Z
LAST-MODIFIED:20200825T215552Z
UID:1277-1600992000-1601078399@vpsarch.com
SUMMARY:5th Annual Ben Shoulders Commissioner's Cup: Event Sponsor
DESCRIPTION:This year\, VPS Architecture will be one of the event sponsors of the annual Ben Shoulders Commissioner’s Cup golf outing.
URL:https://vpsarch.com/event/2020-ben-shoulders-commissioners-cup/
CATEGORIES:Event Sponsor
END:VEVENT
BEGIN:VEVENT
DTSTART;VALUE=DATE:20200918
DTEND;VALUE=DATE:20200919
DTSTAMP:20260419T192810
CREATED:20200825T215111Z
LAST-MODIFIED:20200825T215111Z
UID:1275-1600387200-1600473599@vpsarch.com
SUMMARY:2020 Golf Fore Kids Fundraiser: Event Sponsor
DESCRIPTION:Each year\, Franklin Township Education Foundation hosts a golf outing called Golf Fore Kids. This year\, VPS Architecture is one of the event sponsors\, supporting the teachers and students of Franklin Township public schools. \nClick the link below to learn more about the event.
URL:https://vpsarch.com/event/2020-golf-fore-kids/
LOCATION:Sourthern Dunes Golf Course\, 8220 South Tibbs Avenue\, Evansville\, IN\, 46217\, United States
CATEGORIES:Event Sponsor
END:VEVENT
BEGIN:VEVENT
DTSTART;TZID=America/Chicago:20200709T170000
DTEND;TZID=America/Chicago:20200709T193000
DTSTAMP:20260419T192810
CREATED:20191029T205049Z
LAST-MODIFIED:20200120T164102Z
UID:753-1594314000-1594323000@vpsarch.com
SUMMARY:Inspired by Innovation - General Magic
DESCRIPTION:Join us and EXTEND GROUP on July 9\, 2020\, for the viewing and discussion of General Magic. There will be food\, refreshments\, and a cash bar in addition to the documentary. \n5:00 pm – Welcome\, Meet & Greet\n5:30 pm – Start Documentary\n7:00 pm – Group Discussion
URL:https://vpsarch.com/event/general-magic/
LOCATION:EXTEND GROUP\, 530 Main Street\, Evansville\, IN\, 47708\, United States
ORGANIZER;CN="EXTEND GROUP":MAILTO:info@theextendgroup.com
END:VEVENT
BEGIN:VEVENT
DTSTART;VALUE=DATE:20200616
DTEND;VALUE=DATE:20200618
DTSTAMP:20260419T192810
CREATED:20191114T144043Z
LAST-MODIFIED:20191114T144305Z
UID:933-1592265600-1592438399@vpsarch.com
SUMMARY:VPS at 23rd Indiana Rural Health Conference
DESCRIPTION:VPS Architecture will be at the 23rd Annual Indiana Rural Healthcare Conference. The theme of this year’s conference is 20/20: A Clear Vision for Rural Health.  Contact VPS to set up a meeting while you’re at the conference to discuss your next Healthcare project.
URL:https://vpsarch.com/event/vps-at-23rd-indiana-rural-health-conference/
LOCATION:French Lick Resort\, 8670 W. State Road 56\, French Lick\, IN\, 47432\, United States
END:VEVENT
BEGIN:VEVENT
DTSTART;TZID=America/Chicago:20200514T170000
DTEND;TZID=America/Chicago:20200514T193000
DTSTAMP:20260419T192810
CREATED:20191029T204838Z
LAST-MODIFIED:20200120T163739Z
UID:752-1589475600-1589484600@vpsarch.com
SUMMARY:Inspired by Innovation - Special Viewing
DESCRIPTION:Special Viewing Community Collaboration TBD\nJoin us and EXTEND GROUP on May 14\, 2020\, for our next installment of Inspired by Innovation. There will be food\, refreshments\, and a cash bar in addition to the documentary. \n5:00 pm – Welcome\, Meet & Greet\n5:30 pm – Start Documentary\n7:00 pm – Group Discussion
URL:https://vpsarch.com/event/special-viewing/
LOCATION:EXTEND GROUP\, 530 Main Street\, Evansville\, IN\, 47708\, United States
ORGANIZER;CN="EXTEND GROUP":MAILTO:info@theextendgroup.com
END:VEVENT
BEGIN:VEVENT
DTSTART;VALUE=DATE:20200507
DTEND;VALUE=DATE:20200508
DTSTAMP:20260419T192810
CREATED:20191114T143209Z
LAST-MODIFIED:20191114T145642Z
UID:931-1588809600-1588895999@vpsarch.com
SUMMARY:VPS at IASBO Annual Meeting
DESCRIPTION:Visit VPS Architecture at the Indiana Association of School Business Officials Annual Meeting.  Stop by our booth and let’s discuss your next project.
URL:https://vpsarch.com/event/vps-at-iasbo-annual-meeting/
LOCATION:French Lick Resort\, 8670 W. State Road 56\, French Lick\, IN\, 47432\, United States
END:VEVENT
BEGIN:VEVENT
DTSTART;TZID=America/Chicago:20200312T170000
DTEND;TZID=America/Chicago:20200312T193000
DTSTAMP:20260419T192810
CREATED:20191029T204532Z
LAST-MODIFIED:20200120T164837Z
UID:751-1584032400-1584041400@vpsarch.com
SUMMARY:Inspired by Innovation - Citizen Architect
DESCRIPTION:Join us and EXTEND GROUP on March 12\, 2020\, for the viewing and discussion of Citizen Architect: Samuel Mockbee and the Spirit of the Rural Studio. There will be food\, refreshments\, and a cash bar in addition to the documentary. \n5:00 pm – Welcome\, Meet & Greet\n5:30 pm – Start Documentary\n7:00 pm – Group Discussion \nRSVP
URL:https://vpsarch.com/event/citizen-architect/
LOCATION:EXTEND GROUP\, 530 Main Street\, Evansville\, IN\, 47708\, United States
ORGANIZER;CN="EXTEND GROUP":MAILTO:info@theextendgroup.com
END:VEVENT
BEGIN:VEVENT
DTSTART;TZID=America/Chicago:20200117T150000
DTEND;TZID=America/Chicago:20200117T173000
DTSTAMP:20260419T192810
CREATED:20191029T204307Z
LAST-MODIFIED:20191210T165644Z
UID:750-1579273200-1579282200@vpsarch.com
SUMMARY:Inspired by Innovation - Won't You Be My Neighbor?
DESCRIPTION:Join us and EXTEND GROUP on January 17\, 2020\, for the viewing and discussion of Won’t You Be My Neighbor?.  There will be food\, refreshments\, and a cash bar in addition to the documentary. \n3:00 pm – Welcome\, Meet & Greet\n3:30 pm – Start Documentary\n5:00 pm – Group Discussion
URL:https://vpsarch.com/event/by-my-neighbor/
LOCATION:EXTEND GROUP\, 530 Main Street\, Evansville\, IN\, 47708\, United States
ORGANIZER;CN="EXTEND GROUP":MAILTO:info@theextendgroup.com
END:VEVENT
BEGIN:VEVENT
DTSTART;VALUE=DATE:20191204
DTEND;VALUE=DATE:20191207
DTSTAMP:20260419T192810
CREATED:20191114T142204Z
LAST-MODIFIED:20191114T144553Z
UID:929-1575417600-1575676799@vpsarch.com
SUMMARY:VPS at the IAPSS Annual Meeting
DESCRIPTION:Visit VPS Architecture at the Indiana Association of Public School Superintendents Annual Meeting.  Stop by our booth and let’s discuss your next project.
URL:https://vpsarch.com/event/iapss-annual-meeting/
LOCATION:Indiana Convention Center\, 100 S Capitol Ave\, Indianapolis\, IN\, 46225\, United States
END:VEVENT
BEGIN:VEVENT
DTSTART;TZID=America/Chicago:20191115T150000
DTEND;TZID=America/Chicago:20191115T173000
DTSTAMP:20260419T192810
CREATED:20191029T203943Z
LAST-MODIFIED:20191029T203943Z
UID:746-1573830000-1573839000@vpsarch.com
SUMMARY:Inspired by Innovation - The Human Shelter
DESCRIPTION:Join us and EXTEND GROUP on November 15 for the viewing and discussion of The Human Shelter.  There will be food\, refreshments\, and a cash bar in addition to the documentary. \n3:00 pm – Welcome\, Meet & Greet\n3:30 pm – Start Documentary\n5:00 pm – Group Discussion \nRSVP today
URL:https://vpsarch.com/event/the-human-shelter/
LOCATION:EXTEND GROUP\, 530 Main Street\, Evansville\, IN\, 47708\, United States
ORGANIZER;CN="EXTEND GROUP":MAILTO:info@theextendgroup.com
END:VEVENT
END:VCALENDAR